BEGIN:VCALENDAR
VERSION:2.0
PRODID:-//Dahlonega Butterfly Farm - ECPv6.15.20//NONSGML v1.0//EN
CALSCALE:GREGORIAN
METHOD:PUBLISH
X-ORIGINAL-URL:https://dahlonegabutterfly.com
X-WR-CALDESC:Events for Dahlonega Butterfly Farm
REFRESH-INTERVAL;VALUE=DURATION:PT1H
X-Robots-Tag:noindex
X-PUBLISHED-TTL:PT1H
BEGIN:VTIMEZONE
TZID:America/New_York
BEGIN:DAYLIGHT
TZOFFSETFROM:-0500
TZOFFSETTO:-0400
TZNAME:EDT
DTSTART:20250309T070000
END:DAYLIGHT
BEGIN:STANDARD
TZOFFSETFROM:-0400
TZOFFSETTO:-0500
TZNAME:EST
DTSTART:20251102T060000
END:STANDARD
BEGIN:DAYLIGHT
TZOFFSETFROM:-0500
TZOFFSETTO:-0400
TZNAME:EDT
DTSTART:20260308T070000
END:DAYLIGHT
BEGIN:STANDARD
TZOFFSETFROM:-0400
TZOFFSETTO:-0500
TZNAME:EST
DTSTART:20261101T060000
END:STANDARD
BEGIN:DAYLIGHT
TZOFFSETFROM:-0500
TZOFFSETTO:-0400
TZNAME:EDT
DTSTART:20270314T070000
END:DAYLIGHT
BEGIN:STANDARD
TZOFFSETFROM:-0400
TZOFFSETTO:-0500
TZNAME:EST
DTSTART:20271107T060000
END:STANDARD
END:VTIMEZONE
BEGIN:VEVENT
DTSTART;TZID=America/New_York:20260424T170000
DTEND;TZID=America/New_York:20260424T190000
DTSTAMP:20260424T114429
CREATED:20260414T030059Z
LAST-MODIFIED:20260414T030059Z
UID:704-1777050000-1777057200@dahlonegabutterfly.com
SUMMARY:Bottle To Bloom Plant Bar April 24th
DESCRIPTION:For a few select evenings\, we’re opening up our plant bar experience where you’ll create your own self-watering planter using recycled wine bottles—while enjoying the peaceful\, after-hours vibe of the farm.\n Small groups Relaxed\, intimate setting A little wine\, a little dirt\, a lot of magic\nhttps://square.link/u/KcaBQxRb\nYou’ll leave with something you made… and probably a new favorite way to unwind.\n Perfect for date night\, girls’ night\, or a “just because I deserve this” night\n Once spots fill\, that’s it. No walk-ups. No extras.\n Dahlonega Butterfly Farm Reserve your spot now   $28
URL:https://dahlonegabutterfly.com/event/bottle-to-bloom-plant-bar-april-24th/
LOCATION:Dahlonega Butterfly Farm\, 427 Castleberry Bridge Road\, Dawsonville\, GA\, 30534\, United States
END:VEVENT
BEGIN:VEVENT
DTSTART;TZID=America/New_York:20260425T170000
DTEND;TZID=America/New_York:20260425T190000
DTSTAMP:20260424T114429
CREATED:20260414T030348Z
LAST-MODIFIED:20260414T030348Z
UID:706-1777136400-1777143600@dahlonegabutterfly.com
SUMMARY:Bottle To Bloom Plant Bar April 25th
DESCRIPTION:For a few select evenings\, we’re opening up our plant bar experience where you’ll create your own self-watering planter using recycled wine bottles—while enjoying the peaceful\, after-hours vibe of the farm.\n Small groups Relaxed\, intimate setting A little wine\, a little dirt\, a lot of magic\nhttps://square.link/u/KcaBQxRb\nYou’ll leave with something you made… and probably a new favorite way to unwind.\n Perfect for date night\, girls’ night\, or a “just because I deserve this” night\n Once spots fill\, that’s it. No walk-ups. No extras.\n Dahlonega Butterfly Farm Reserve your spot now   $28
URL:https://dahlonegabutterfly.com/event/bottle-to-bloom-plant-bar-april-25th/
LOCATION:Dahlonega Butterfly Farm\, 427 Castleberry Bridge Road\, Dawsonville\, GA\, 30534\, United States
END:VEVENT
END:VCALENDAR